BEGIN:VCALENDAR
VERSION:2.0
PRODID:-//Alabama - NW Florida PGA - ECPv6.15.20//NONSGML v1.0//EN
CALSCALE:GREGORIAN
METHOD:PUBLISH
X-ORIGINAL-URL:https://alabamanwfloridapga.com
X-WR-CALDESC:Events for Alabama - NW Florida PGA
REFRESH-INTERVAL;VALUE=DURATION:PT1H
X-Robots-Tag:noindex
X-PUBLISHED-TTL:PT1H
BEGIN:VTIMEZONE
TZID:America/Chicago
BEGIN:DAYLIGHT
TZOFFSETFROM:-0600
TZOFFSETTO:-0500
TZNAME:CDT
DTSTART:20250309T080000
END:DAYLIGHT
BEGIN:STANDARD
TZOFFSETFROM:-0500
TZOFFSETTO:-0600
TZNAME:CST
DTSTART:20251102T070000
END:STANDARD
BEGIN:DAYLIGHT
TZOFFSETFROM:-0600
TZOFFSETTO:-0500
TZNAME:CDT
DTSTART:20260308T080000
END:DAYLIGHT
BEGIN:STANDARD
TZOFFSETFROM:-0500
TZOFFSETTO:-0600
TZNAME:CST
DTSTART:20261101T070000
END:STANDARD
BEGIN:DAYLIGHT
TZOFFSETFROM:-0600
TZOFFSETTO:-0500
TZNAME:CDT
DTSTART:20270314T080000
END:DAYLIGHT
BEGIN:STANDARD
TZOFFSETFROM:-0500
TZOFFSETTO:-0600
TZNAME:CST
DTSTART:20271107T070000
END:STANDARD
END:VTIMEZONE
BEGIN:VEVENT
DTSTART;TZID=America/Chicago:20260507T080000
DTEND;TZID=America/Chicago:20260507T080000
DTSTAMP:20260420T161718
CREATED:20251209T203903Z
LAST-MODIFIED:20251209T205327Z
UID:10000521-1778140800-1778140800@alabamanwfloridapga.com
SUMMARY:Wynlakes Golf & Country Club PAT
DESCRIPTION:Event Date & Time\n\nMay 7\, 2026\, at 8:00 am CDT\n\n\n\n\n\n\nLocation\n\nWynlakes Golf & Country Club\n7900 Wynlakes Blvd\nMontgomery\, AL 36117-5165\n\n\n\n\n\n\nRegistration Info\n\nOpens: January 1\, 2026\nCloses: April 30\, 2026\n\nFees\n\n\n\n\n\n\n\n$150.00 PAT Registration\n\n\n$65.00 Course Fees\n\n\n\nVisit the Alabama – NW Florida PGA BlueGolf PAT Hub for more information.
URL:https://alabamanwfloridapga.com/event/wynlakes-golf-country-club-pat/
LOCATION:Wynlakes Golf & Country Club\, 7900 Wynlakes Blvd.\, Montgomery\, AL\, 36117\, United States
CATEGORIES:Playing Ability Test (PAT)
GEO:32.3504305;-86.15109
X-APPLE-STRUCTURED-LOCATION;VALUE=URI;X-ADDRESS=Wynlakes Golf & Country Club 7900 Wynlakes Blvd. Montgomery AL 36117 United States;X-APPLE-RADIUS=500;X-TITLE=7900 Wynlakes Blvd.:geo:-86.15109,32.3504305
END:VEVENT
BEGIN:VEVENT
DTSTART;VALUE=DATE:20261005
DTEND;VALUE=DATE:20261006
DTSTAMP:20260420T161718
CREATED:20260128T223819Z
LAST-MODIFIED:20260128T223819Z
UID:10000581-1791158400-1791244799@alabamanwfloridapga.com
SUMMARY:2026 Stroke Play Series Event #6
DESCRIPTION:Entry Deadline: September 30\, 2026 at 11:59 PM CDT \nEntry Fee: $145 \nTee Time Start at 8:00 AM. Tee times and pairings will be based on the Stroke Play Series Points List. \n  \nRegister Here
URL:https://alabamanwfloridapga.com/event/2026-stroke-play-series-event-6/
LOCATION:Wynlakes Golf & Country Club\, 7900 Wynlakes Blvd.\, Montgomery\, AL\, 36117\, United States
GEO:32.3504305;-86.15109
X-APPLE-STRUCTURED-LOCATION;VALUE=URI;X-ADDRESS=Wynlakes Golf & Country Club 7900 Wynlakes Blvd. Montgomery AL 36117 United States;X-APPLE-RADIUS=500;X-TITLE=7900 Wynlakes Blvd.:geo:-86.15109,32.3504305
END:VEVENT
END:VCALENDAR