BEGIN:VCALENDAR
VERSION:2.0
PRODID:-//Alabama - NW Florida PGA - ECPv6.15.20//NONSGML v1.0//EN
CALSCALE:GREGORIAN
METHOD:PUBLISH
X-WR-CALNAME:Alabama - NW Florida PGA
X-ORIGINAL-URL:https://alabamanwfloridapga.com
X-WR-CALDESC:Events for Alabama - NW Florida PGA
REFRESH-INTERVAL;VALUE=DURATION:PT1H
X-Robots-Tag:noindex
X-PUBLISHED-TTL:PT1H
BEGIN:VTIMEZONE
TZID:UTC
BEGIN:STANDARD
TZOFFSETFROM:+0000
TZOFFSETTO:+0000
TZNAME:UTC
DTSTART:20230101T000000
END:STANDARD
END:VTIMEZONE
BEGIN:VEVENT
DTSTART;VALUE=DATE:20240603
DTEND;VALUE=DATE:20240604
DTSTAMP:20260420T180523
CREATED:20240102T224744Z
LAST-MODIFIED:20240212T215201Z
UID:10000415-1717372800-1717459199@alabamanwfloridapga.com
SUMMARY:2024 E-Z-GO Pro-Pro
DESCRIPTION:
URL:https://alabamanwfloridapga.com/event/2024-e-z-go-pro-pro/
LOCATION:Vestavia Country Club
END:VEVENT
END:VCALENDAR