BEGIN:VCALENDAR
VERSION:2.0
PRODID:-//Alabama - NW Florida PGA - ECPv6.15.20//NONSGML v1.0//EN
CALSCALE:GREGORIAN
METHOD:PUBLISH
X-WR-CALNAME:Alabama - NW Florida PGA
X-ORIGINAL-URL:https://alabamanwfloridapga.com
X-WR-CALDESC:Events for Alabama - NW Florida PGA
REFRESH-INTERVAL;VALUE=DURATION:PT1H
X-Robots-Tag:noindex
X-PUBLISHED-TTL:PT1H
BEGIN:VTIMEZONE
TZID:America/Chicago
BEGIN:DAYLIGHT
TZOFFSETFROM:-0600
TZOFFSETTO:-0500
TZNAME:CDT
DTSTART:20250309T080000
END:DAYLIGHT
BEGIN:STANDARD
TZOFFSETFROM:-0500
TZOFFSETTO:-0600
TZNAME:CST
DTSTART:20251102T070000
END:STANDARD
BEGIN:DAYLIGHT
TZOFFSETFROM:-0600
TZOFFSETTO:-0500
TZNAME:CDT
DTSTART:20260308T080000
END:DAYLIGHT
BEGIN:STANDARD
TZOFFSETFROM:-0500
TZOFFSETTO:-0600
TZNAME:CST
DTSTART:20261101T070000
END:STANDARD
BEGIN:DAYLIGHT
TZOFFSETFROM:-0600
TZOFFSETTO:-0500
TZNAME:CDT
DTSTART:20270314T080000
END:DAYLIGHT
BEGIN:STANDARD
TZOFFSETFROM:-0500
TZOFFSETTO:-0600
TZNAME:CST
DTSTART:20271107T070000
END:STANDARD
END:VTIMEZONE
BEGIN:VEVENT
DTSTART;VALUE=DATE:20260504
DTEND;VALUE=DATE:20260506
DTSTAMP:20260421T015601
CREATED:20260128T190939Z
LAST-MODIFIED:20260128T223055Z
UID:10000558-1777852800-1778025599@alabamanwfloridapga.com
SUMMARY:2026 Alabama Championship
DESCRIPTION:Entry Deadline: April 29\, 2026\, at 11:59 PM CDT \nEntry Fee: $230 \nTOURNAMENT INFORMATION \n\nThe Alabama Championship is open to all Alabama – NW Florida Section Members (A-1 through A-24\, except A-3’s) MP\, Life Members\, and Associates. Class “A” Members must be in good standing. Associates must be eligibly employed and in good standing.\nThe Alabama Championship is sponsored by the City of Gadsden.\nSnacks & Beverages will be available during the event.\n\nSCHEDULE OF EVENTS \nMonday (Round 1) will be a 9:00 AM Shotgun start. \nTuesday (Round 2) will be tee times starting at 7:30 AM with the Super Senior division going first followed by the Senior division and finally the Open division. \n  \nRegister Here
URL:https://alabamanwfloridapga.com/event/2026-alabama-championship/
LOCATION:Twin Bridges Golf Club
END:VEVENT
END:VCALENDAR