BEGIN:VCALENDAR
VERSION:2.0
PRODID:-//Alabama - NW Florida PGA - ECPv6.15.20//NONSGML v1.0//EN
CALSCALE:GREGORIAN
METHOD:PUBLISH
X-ORIGINAL-URL:https://alabamanwfloridapga.com
X-WR-CALDESC:Events for Alabama - NW Florida PGA
REFRESH-INTERVAL;VALUE=DURATION:PT1H
X-Robots-Tag:noindex
X-PUBLISHED-TTL:PT1H
BEGIN:VTIMEZONE
TZID:America/Chicago
BEGIN:DAYLIGHT
TZOFFSETFROM:-0600
TZOFFSETTO:-0500
TZNAME:CDT
DTSTART:20240310T080000
END:DAYLIGHT
BEGIN:STANDARD
TZOFFSETFROM:-0500
TZOFFSETTO:-0600
TZNAME:CST
DTSTART:20241103T070000
END:STANDARD
BEGIN:DAYLIGHT
TZOFFSETFROM:-0600
TZOFFSETTO:-0500
TZNAME:CDT
DTSTART:20250309T080000
END:DAYLIGHT
BEGIN:STANDARD
TZOFFSETFROM:-0500
TZOFFSETTO:-0600
TZNAME:CST
DTSTART:20251102T070000
END:STANDARD
BEGIN:DAYLIGHT
TZOFFSETFROM:-0600
TZOFFSETTO:-0500
TZNAME:CDT
DTSTART:20260308T080000
END:DAYLIGHT
BEGIN:STANDARD
TZOFFSETFROM:-0500
TZOFFSETTO:-0600
TZNAME:CST
DTSTART:20261101T070000
END:STANDARD
BEGIN:DAYLIGHT
TZOFFSETFROM:-0600
TZOFFSETTO:-0500
TZNAME:CDT
DTSTART:20270314T080000
END:DAYLIGHT
BEGIN:STANDARD
TZOFFSETFROM:-0500
TZOFFSETTO:-0600
TZNAME:CST
DTSTART:20271107T070000
END:STANDARD
END:VTIMEZONE
BEGIN:VTIMEZONE
TZID:UTC
BEGIN:STANDARD
TZOFFSETFROM:+0000
TZOFFSETTO:+0000
TZNAME:UTC
DTSTART:20170101T000000
END:STANDARD
END:VTIMEZONE
BEGIN:VEVENT
DTSTART;VALUE=DATE:20260316
DTEND;VALUE=DATE:20260317
DTSTAMP:20260421T083623
CREATED:20260128T174646Z
LAST-MODIFIED:20260128T174646Z
UID:10000547-1773619200-1773705599@alabamanwfloridapga.com
SUMMARY:2026 Stableford Pro-Pro
DESCRIPTION:Entry Deadline: March 11\, 2026\, at 11:59 PM CDT \nTeam Entry Fee: $240 \nShotgun Start at 9:00 AM \nFormat of Play: \nThe Championship is an 18-hole Team Stableford event. Teams are comprised of two (2) ALNWFL PGA professionals. Cumulative scoring for both players on a team will count on every hole. Points are awarded individually for scores using a modified Stableford scoring table below. \nDouble Bogey or higher………….. 0 points\nBogey……………………………….. 1 point\nPar……………………………………. 3 points\nBirdie………………………………… 5 points\nEagle…………………………………. 8 points\nDouble Eagle ……………………….. 12 points \nThe highest combined team point total will be the winner. \n  \nRegister Here
URL:https://alabamanwfloridapga.com/event/2026-stableford-pro-pro/
LOCATION:Timberline Golf Club\, 300 Timberline Trail\, Calera\, AL\, 35040\, United States
GEO:33.1004664;-86.7361479
X-APPLE-STRUCTURED-LOCATION;VALUE=URI;X-ADDRESS=Timberline Golf Club 300 Timberline Trail Calera AL 35040 United States;X-APPLE-RADIUS=500;X-TITLE=300 Timberline Trail:geo:-86.7361479,33.1004664
END:VEVENT
BEGIN:VEVENT
DTSTART;VALUE=DATE:20251006
DTEND;VALUE=DATE:20251007
DTSTAMP:20260421T083623
CREATED:20250110T215516Z
LAST-MODIFIED:20250127T220740Z
UID:10000498-1759708800-1759795199@alabamanwfloridapga.com
SUMMARY:2025 Stroke Play Series Event #6
DESCRIPTION:Entry Deadline: October 1\, 2025 at 11:59 PM CDT \nEntry Fee: $145 \nShotgun Start at 10:00 AM \n  \nRegister Here
URL:https://alabamanwfloridapga.com/event/2025-stroke-play-series-event-6/
LOCATION:Timberline Golf Club\, 300 Timberline Trail\, Calera\, AL\, 35040\, United States
GEO:33.1004664;-86.7361479
X-APPLE-STRUCTURED-LOCATION;VALUE=URI;X-ADDRESS=Timberline Golf Club 300 Timberline Trail Calera AL 35040 United States;X-APPLE-RADIUS=500;X-TITLE=300 Timberline Trail:geo:-86.7361479,33.1004664
END:VEVENT
BEGIN:VEVENT
DTSTART;VALUE=DATE:20230925
DTEND;VALUE=DATE:20230926
DTSTAMP:20260421T083623
CREATED:20230217T025532Z
LAST-MODIFIED:20250110T215721Z
UID:10000324-1695600000-1695686399@alabamanwfloridapga.com
SUMMARY:2023 Stroke Play #6
DESCRIPTION:
URL:https://alabamanwfloridapga.com/event/2023-stroke-play-6/
LOCATION:Timberline Golf Club\, 300 Timberline Trail\, Calera\, AL\, 35040\, United States
GEO:33.1004664;-86.7361479
X-APPLE-STRUCTURED-LOCATION;VALUE=URI;X-ADDRESS=Timberline Golf Club 300 Timberline Trail Calera AL 35040 United States;X-APPLE-RADIUS=500;X-TITLE=300 Timberline Trail:geo:-86.7361479,33.1004664
END:VEVENT
BEGIN:VEVENT
DTSTART;TZID=UTC:20220110T100000
DTEND;TZID=UTC:20220110T113000
DTSTAMP:20260421T083623
CREATED:20211216T214749Z
LAST-MODIFIED:20250110T215448Z
UID:10000375-1641808800-1641814200@alabamanwfloridapga.com
SUMMARY:2022 Alabama Chapter Meeting
DESCRIPTION:The Alabama Chapter Meeting will begin at approximately 10:00 AM with lunch to follow the meeting — please arrive at least 15 minutes in advance to sign in with your name and Member Number (you will receive MSR credits for attending). \nAttire:  Golf Attire
URL:https://alabamanwfloridapga.com/event/alabama-chapter-meeting-2022/
LOCATION:Timberline Golf Club\, 300 Timberline Trail\, Calera\, AL\, 35040\, United States
GEO:33.1004664;-86.7361479
X-APPLE-STRUCTURED-LOCATION;VALUE=URI;X-ADDRESS=Timberline Golf Club 300 Timberline Trail Calera AL 35040 United States;X-APPLE-RADIUS=500;X-TITLE=300 Timberline Trail:geo:-86.7361479,33.1004664
END:VEVENT
BEGIN:VEVENT
DTSTART;VALUE=DATE:20200302
DTEND;VALUE=DATE:20200303
DTSTAMP:20260421T083623
CREATED:20200221T210808Z
LAST-MODIFIED:20250110T215958Z
UID:10000351-1583107200-1583193599@alabamanwfloridapga.com
SUMMARY:Section Pro-Am | 2 Best Balls of 4
DESCRIPTION:
URL:https://alabamanwfloridapga.com/event/section-pro-am-2-best-balls-of-4/
LOCATION:Timberline Golf Club\, 300 Timberline Trail\, Calera\, AL\, 35040\, United States
GEO:33.1004664;-86.7361479
X-APPLE-STRUCTURED-LOCATION;VALUE=URI;X-ADDRESS=Timberline Golf Club 300 Timberline Trail Calera AL 35040 United States;X-APPLE-RADIUS=500;X-TITLE=300 Timberline Trail:geo:-86.7361479,33.1004664
END:VEVENT
BEGIN:VEVENT
DTSTART;VALUE=DATE:20190805
DTEND;VALUE=DATE:20190807
DTSTAMP:20260421T083623
CREATED:20190730T193639Z
LAST-MODIFIED:20250110T220058Z
UID:10000340-1564963200-1565135999@alabamanwfloridapga.com
SUMMARY:National Car Rental AL-NW FL Assistants PGA Championship
DESCRIPTION:
URL:https://alabamanwfloridapga.com/event/assistants-championship/
LOCATION:Timberline Golf Club\, 300 Timberline Trail\, Calera\, AL\, 35040\, United States
GEO:33.1004664;-86.7361479
X-APPLE-STRUCTURED-LOCATION;VALUE=URI;X-ADDRESS=Timberline Golf Club 300 Timberline Trail Calera AL 35040 United States;X-APPLE-RADIUS=500;X-TITLE=300 Timberline Trail:geo:-86.7361479,33.1004664
END:VEVENT
BEGIN:VEVENT
DTSTART;VALUE=DATE:20180416
DTEND;VALUE=DATE:20180417
DTSTAMP:20260421T083623
CREATED:20190205T013638Z
LAST-MODIFIED:20250110T215414Z
UID:10000323-1523836800-1523923199@alabamanwfloridapga.com
SUMMARY:AL Chapter-Premier ProAm Series Event #1
DESCRIPTION:PREMIER PRO-AM SERIES\nThe Premier Pro-Am Series is four Pro-Am’s that will be conducted by the Alabama Chapter over the course of the year. \nEach event will be a 2-Best Balls (1-Gross and 1-Net) of 4-Ball Stroke Play. Same ball can’t count for both gross and net on each hole. \nTeams – 4 person team\, consisting of 1 Alabama – NW Florida PGA Professional & 3 Amateurs. All amateurs must have a verifiable handicap. \nOpen to all Alabama – NW Florida Section Members (A-1 thru A-24\, except A-3’s)\, MP\, Life Members\, and Alabama – NW Florida Section Apprentices who are eligibly employed (B-1 thru B-24).\nNote: All Alabama – NW Florida Section Members or Apprentices must be in good standing. \nCHOICE OF TEES FOR AMATEURS & USGA HANDICAP MANUAL 3-5\n\nChoice of Tees For Amateurs & USGA Handicap Manual 3-5 \nAt the Premier Pro-Am Series – any amateur 62 years age or older has the option of playing the Senior Tees at around 5750 to 5950 yards. The Open Tees will be set at around 6400 to 6600 yards. \nPLEASE KEEP IN MIND that players that play the Senior Tees could receive between 3 to 4 less handicap strokes Reasoning behind the reduction can be found in USGA Handicap Manual Rule 3-5 at – http://www.usga.org/content/usga/home-page/Handicapping/handicap-manual.html#!rule-14373 \nPlayers must commit to a set of tees by the Thursday prior to the event. After that point players will not be allowed to change the set of tees they are playing. \nResults\n\n\n\nPOS\nTEAM\nTHRU\nTOTAL\nSTROKES\nPOINTS\nPURSE\n\n\n1\nEagle’s Nest GC – Lett\nF\n-15\n127\n\n$1\,300.00\n\n\n2\nOl’ Colony GC – Ambler\nF\n-12\n130\n\n$1\,000.00\n\n\n3\nPine Tree CC – Whitman\nF\n-8\n134\n\n$800.00\n\n\n4\nTimberline GC – Griffin\nF\n-7\n135\n\n$640.00\n\n\n5\nRiverchase CC – Clayton\nF\n-6\n136\n\n$500.00\n\n\nT6\nLinks at Tuscaloosa – Stephens\nF\n-3\n139\n\n$0.00\n\n\nT6\nMoore’s Mill Club – Karabasz\nF\n-3\n139\n\n$0.00\n\n\n8\nTimberline GC – Dickenson\nF\n-2\n140\n\n$0.00\n\n\nT9\nBallantrae GC – Applegate\nF\n-1\n141\n\n$0.00\n\n\nT9\nIndian Pines GC – Holton\nF\n-1\n141\n\n$0.00\n\n\n11\nLife Member – Crawford\nF\n+4\n146\n\n$0.00\n\n\n12\nOl’ Colony GC – Gray\nF\n+8\n150\n\n$0.00\n\n\n13\nBent Brook GC – Smith\nF\n+9\n151\n\n$0.00\n\n\n14\nFrank House GC – Davis\nF\n+10\n152\n\n$0.00
URL:https://alabamanwfloridapga.com/event/al-chapter-premier-proam-series-event-1/
LOCATION:Timberline Golf Club\, 300 Timberline Trail\, Calera\, AL\, 35040\, United States
CATEGORIES:Premier Pro Am - Alabama Chapter
GEO:33.1004664;-86.7361479
X-APPLE-STRUCTURED-LOCATION;VALUE=URI;X-ADDRESS=Timberline Golf Club 300 Timberline Trail Calera AL 35040 United States;X-APPLE-RADIUS=500;X-TITLE=300 Timberline Trail:geo:-86.7361479,33.1004664
END:VEVENT
END:VCALENDAR