BEGIN:VCALENDAR
VERSION:2.0
PRODID:-//Alabama - NW Florida PGA - ECPv6.15.20//NONSGML v1.0//EN
CALSCALE:GREGORIAN
METHOD:PUBLISH
X-ORIGINAL-URL:https://alabamanwfloridapga.com
X-WR-CALDESC:Events for Alabama - NW Florida PGA
REFRESH-INTERVAL;VALUE=DURATION:PT1H
X-Robots-Tag:noindex
X-PUBLISHED-TTL:PT1H
BEGIN:VTIMEZONE
TZID:America/Chicago
BEGIN:DAYLIGHT
TZOFFSETFROM:-0600
TZOFFSETTO:-0500
TZNAME:CDT
DTSTART:20240310T080000
END:DAYLIGHT
BEGIN:STANDARD
TZOFFSETFROM:-0500
TZOFFSETTO:-0600
TZNAME:CST
DTSTART:20241103T070000
END:STANDARD
BEGIN:DAYLIGHT
TZOFFSETFROM:-0600
TZOFFSETTO:-0500
TZNAME:CDT
DTSTART:20250309T080000
END:DAYLIGHT
BEGIN:STANDARD
TZOFFSETFROM:-0500
TZOFFSETTO:-0600
TZNAME:CST
DTSTART:20251102T070000
END:STANDARD
BEGIN:DAYLIGHT
TZOFFSETFROM:-0600
TZOFFSETTO:-0500
TZNAME:CDT
DTSTART:20260308T080000
END:DAYLIGHT
BEGIN:STANDARD
TZOFFSETFROM:-0500
TZOFFSETTO:-0600
TZNAME:CST
DTSTART:20261101T070000
END:STANDARD
END:VTIMEZONE
BEGIN:VEVENT
DTSTART;VALUE=DATE:20250602
DTEND;VALUE=DATE:20250603
DTSTAMP:20260423T043726
CREATED:20250110T212739Z
LAST-MODIFIED:20250529T180344Z
UID:10000468-1748822400-1748908799@alabamanwfloridapga.com
SUMMARY:2025 E-Z-GO Pro-Pro
DESCRIPTION:Entry Deadline: May 28\, 2025\, at 11:59 PM CDT \nTeam Entry Fee: $240 \nTOURNAMENT INFORMATION: \n\n2025 E-Z-GO Pro-Pro is a team event consisting of two (2) Alabama – NW Florida PGA Professionals and/or Associates.\nThere will only be One Division and One Purse for the E-Z-GO Pro-Pro.\nPlayers will play from the tees that correspond with their age. The age breakdowns are 49 & under players\, 50 to 64 players\, and 65+ players.\nTees will be listed on the Tournament Information Page for each age group. These are subject to change based on weather and course condition.\nTeams may consist of any combination of players. Example:\n\n\nA 49 & under players can play with a 65+ players.\nTwo 65+ players may team up together.\nA 50 to 65 player may team up with a 49 & under player. etc…\n\nFORMAT OF PLAY: \n2-player teams playing 18-Holes: \n\n6 Holes of Scramble of 2-player team\n6 Holes of Alternate Shot – Select Drive of 2-player team\n6 Holes of Best Ball of 2-player team\n\nSCHEDULE OF EVENTS: \n8:00 AM Registration Opens. \n9:00 AM Shotgun Start. \nFood will be served after play (Snacks & Beverages will be available for purchase during the event). \n  \nRegister Here
URL:https://alabamanwfloridapga.com/event/2025-e-z-go-pro-pro/
LOCATION:RTJ Golf Trail at Ross Bridge\, 4000 Grand Ave\, Hoover\, AL\, 35226\, United States
GEO:33.3927399;-86.8809125
X-APPLE-STRUCTURED-LOCATION;VALUE=URI;X-ADDRESS=RTJ Golf Trail at Ross Bridge 4000 Grand Ave Hoover AL 35226 United States;X-APPLE-RADIUS=500;X-TITLE=4000 Grand Ave:geo:-86.8809125,33.3927399
END:VEVENT
END:VCALENDAR