BEGIN:VCALENDAR
VERSION:2.0
PRODID:-//Alabama - NW Florida PGA - ECPv6.15.20//NONSGML v1.0//EN
CALSCALE:GREGORIAN
METHOD:PUBLISH
X-WR-CALNAME:Alabama - NW Florida PGA
X-ORIGINAL-URL:https://alabamanwfloridapga.com
X-WR-CALDESC:Events for Alabama - NW Florida PGA
REFRESH-INTERVAL;VALUE=DURATION:PT1H
X-Robots-Tag:noindex
X-PUBLISHED-TTL:PT1H
BEGIN:VTIMEZONE
TZID:UTC
BEGIN:STANDARD
TZOFFSETFROM:+0000
TZOFFSETTO:+0000
TZNAME:UTC
DTSTART:20230101T000000
END:STANDARD
END:VTIMEZONE
BEGIN:VEVENT
DTSTART;VALUE=DATE:20240923
DTEND;VALUE=DATE:20240924
DTSTAMP:20260421T145205
CREATED:20240102T180003Z
LAST-MODIFIED:20240524T150843Z
UID:10000410-1727049600-1727135999@alabamanwfloridapga.com
SUMMARY:2024 Stroke Play Series #6
DESCRIPTION:
URL:https://alabamanwfloridapga.com/event/2024-stroke-play-series-6/
LOCATION:Huntsville Country Club\, Huntsville Country Club\, Huntsville\, AL\, 35810\, United States
GEO:34.7488665;-86.6118256
X-APPLE-STRUCTURED-LOCATION;VALUE=URI;X-ADDRESS=Huntsville Country Club Huntsville Country Club Huntsville AL 35810 United States;X-APPLE-RADIUS=500;X-TITLE=Huntsville Country Club:geo:-86.6118256,34.7488665
END:VEVENT
END:VCALENDAR