BEGIN:VCALENDAR
VERSION:2.0
PRODID:-//Alabama - NW Florida PGA - ECPv6.15.20//NONSGML v1.0//EN
CALSCALE:GREGORIAN
METHOD:PUBLISH
X-WR-CALNAME:Alabama - NW Florida PGA
X-ORIGINAL-URL:https://alabamanwfloridapga.com
X-WR-CALDESC:Events for Alabama - NW Florida PGA
REFRESH-INTERVAL;VALUE=DURATION:PT1H
X-Robots-Tag:noindex
X-PUBLISHED-TTL:PT1H
BEGIN:VTIMEZONE
TZID:America/Chicago
BEGIN:DAYLIGHT
TZOFFSETFROM:-0600
TZOFFSETTO:-0500
TZNAME:CDT
DTSTART:20230312T080000
END:DAYLIGHT
BEGIN:STANDARD
TZOFFSETFROM:-0500
TZOFFSETTO:-0600
TZNAME:CST
DTSTART:20231105T070000
END:STANDARD
BEGIN:DAYLIGHT
TZOFFSETFROM:-0600
TZOFFSETTO:-0500
TZNAME:CDT
DTSTART:20240310T080000
END:DAYLIGHT
BEGIN:STANDARD
TZOFFSETFROM:-0500
TZOFFSETTO:-0600
TZNAME:CST
DTSTART:20241103T070000
END:STANDARD
BEGIN:DAYLIGHT
TZOFFSETFROM:-0600
TZOFFSETTO:-0500
TZNAME:CDT
DTSTART:20250309T080000
END:DAYLIGHT
BEGIN:STANDARD
TZOFFSETFROM:-0500
TZOFFSETTO:-0600
TZNAME:CST
DTSTART:20251102T070000
END:STANDARD
END:VTIMEZONE
BEGIN:VEVENT
DTSTART;VALUE=DATE:20240909
DTEND;VALUE=DATE:20240911
DTSTAMP:20260422T091550
CREATED:20240104T175527Z
LAST-MODIFIED:20240212T215840Z
UID:10000423-1725840000-1726012799@alabamanwfloridapga.com
SUMMARY:2024 Alabama - NW Florida PGA Professional Championship
DESCRIPTION:
URL:https://alabamanwfloridapga.com/event/2024-section-championship/
LOCATION:Greystone Golf & Country Club – Legacy\, 330 Legacy Way\, Birmingham\, AL\, 35242
GEO:33.4537354;-86.6240213
X-APPLE-STRUCTURED-LOCATION;VALUE=URI;X-ADDRESS=Greystone Golf & Country Club – Legacy 330 Legacy Way Birmingham AL 35242;X-APPLE-RADIUS=500;X-TITLE=330 Legacy Way:geo:-86.6240213,33.4537354
END:VEVENT
END:VCALENDAR