BEGIN:VCALENDAR
VERSION:2.0
PRODID:-//Alabama - NW Florida PGA - ECPv6.15.20//NONSGML v1.0//EN
CALSCALE:GREGORIAN
METHOD:PUBLISH
X-ORIGINAL-URL:https://alabamanwfloridapga.com
X-WR-CALDESC:Events for Alabama - NW Florida PGA
REFRESH-INTERVAL;VALUE=DURATION:PT1H
X-Robots-Tag:noindex
X-PUBLISHED-TTL:PT1H
BEGIN:VTIMEZONE
TZID:UTC
BEGIN:STANDARD
TZOFFSETFROM:+0000
TZOFFSETTO:+0000
TZNAME:UTC
DTSTART:20230101T000000
END:STANDARD
END:VTIMEZONE
BEGIN:VEVENT
DTSTART;VALUE=DATE:20240715
DTEND;VALUE=DATE:20240716
DTSTAMP:20260422T214713
CREATED:20240212T222031Z
LAST-MODIFIED:20240212T222329Z
UID:10000433-1721001600-1721087999@alabamanwfloridapga.com
SUMMARY:Drive\, Chip & Putt Local Qualifier
DESCRIPTION:
URL:https://alabamanwfloridapga.com/event/dcp-local-qualifier-4/
LOCATION:RTJ Golf Trail at Silver Lakes\, 1 SunBelt Parkway\, Glencoe\, AL\, 35905\, United States
GEO:33.8836655;-85.9280584
X-APPLE-STRUCTURED-LOCATION;VALUE=URI;X-ADDRESS=RTJ Golf Trail at Silver Lakes 1 SunBelt Parkway Glencoe AL 35905 United States;X-APPLE-RADIUS=500;X-TITLE=1 SunBelt Parkway:geo:-85.9280584,33.8836655
END:VEVENT
END:VCALENDAR