BEGIN:VCALENDAR
VERSION:2.0
PRODID:-//Alabama - NW Florida PGA - ECPv6.15.20//NONSGML v1.0//EN
CALSCALE:GREGORIAN
METHOD:PUBLISH
X-ORIGINAL-URL:https://alabamanwfloridapga.com
X-WR-CALDESC:Events for Alabama - NW Florida PGA
REFRESH-INTERVAL;VALUE=DURATION:PT1H
X-Robots-Tag:noindex
X-PUBLISHED-TTL:PT1H
BEGIN:VTIMEZONE
TZID:America/Chicago
BEGIN:DAYLIGHT
TZOFFSETFROM:-0600
TZOFFSETTO:-0500
TZNAME:CDT
DTSTART:20230312T080000
END:DAYLIGHT
BEGIN:STANDARD
TZOFFSETFROM:-0500
TZOFFSETTO:-0600
TZNAME:CST
DTSTART:20231105T070000
END:STANDARD
BEGIN:DAYLIGHT
TZOFFSETFROM:-0600
TZOFFSETTO:-0500
TZNAME:CDT
DTSTART:20240310T080000
END:DAYLIGHT
BEGIN:STANDARD
TZOFFSETFROM:-0500
TZOFFSETTO:-0600
TZNAME:CST
DTSTART:20241103T070000
END:STANDARD
BEGIN:DAYLIGHT
TZOFFSETFROM:-0600
TZOFFSETTO:-0500
TZNAME:CDT
DTSTART:20250309T080000
END:DAYLIGHT
BEGIN:STANDARD
TZOFFSETFROM:-0500
TZOFFSETTO:-0600
TZNAME:CST
DTSTART:20251102T070000
END:STANDARD
END:VTIMEZONE
BEGIN:VEVENT
DTSTART;TZID=America/Chicago:20240417T110000
DTEND;TZID=America/Chicago:20240417T120000
DTSTAMP:20260425T113626
CREATED:20240415T214653Z
LAST-MODIFIED:20240416T133505Z
UID:10000436-1713351600-1713355200@alabamanwfloridapga.com
SUMMARY:#GameChanger Award - PGA Jr. League Webinar Series
DESCRIPTION:Join us to talk about how YOU could become a 2024 PGA Jr. League #GameChanger Award Winner! To become a Player Engagement award winner you need to have 2+ programs\, 24+ unique players\, be ADM certified\, and host a Family Golf event! Let’s talk with coaches who added one or two of these things to their programming in 2023 to learn how you can: \n– Integrate PGA Family Golf\n– Complete and use ADM and PGA Coach\n– Add an extra Program \n  \n\n\n\n\n\n\n*PDRs are only available for those who attend the webinar live\, however\, you may watch at your own pace if you would like.
URL:https://alabamanwfloridapga.com/event/jr-league-webinar-series-1/
END:VEVENT
END:VCALENDAR