BEGIN:VCALENDAR
VERSION:2.0
PRODID:-//Alabama - NW Florida PGA - ECPv6.15.20//NONSGML v1.0//EN
CALSCALE:GREGORIAN
METHOD:PUBLISH
X-WR-CALNAME:Alabama - NW Florida PGA
X-ORIGINAL-URL:https://alabamanwfloridapga.com
X-WR-CALDESC:Events for Alabama - NW Florida PGA
REFRESH-INTERVAL;VALUE=DURATION:PT1H
X-Robots-Tag:noindex
X-PUBLISHED-TTL:PT1H
BEGIN:VTIMEZONE
TZID:UTC
BEGIN:STANDARD
TZOFFSETFROM:+0000
TZOFFSETTO:+0000
TZNAME:UTC
DTSTART:20220101T000000
END:STANDARD
END:VTIMEZONE
BEGIN:VEVENT
DTSTART;VALUE=DATE:20230725
DTEND;VALUE=DATE:20230728
DTSTAMP:20260421T063822
CREATED:20230321T235956Z
LAST-MODIFIED:20230321T235956Z
UID:10000334-1690243200-1690502399@alabamanwfloridapga.com
SUMMARY:2023 Alabama Open
DESCRIPTION:
URL:https://alabamanwfloridapga.com/event/2023-alabama-open/
LOCATION:RTJ Golf Trail at Capitol Hill – Legislator\, Constitution Avenue 2600\, Prattville\, AL\, 36066\, United States
GEO:32.4431601;-86.3948145
X-APPLE-STRUCTURED-LOCATION;VALUE=URI;X-ADDRESS=RTJ Golf Trail at Capitol Hill – Legislator Constitution Avenue 2600 Prattville AL 36066 United States;X-APPLE-RADIUS=500;X-TITLE=Constitution Avenue 2600:geo:-86.3948145,32.4431601
END:VEVENT
END:VCALENDAR