BEGIN:VCALENDAR
VERSION:2.0
PRODID:-//Alabama - NW Florida PGA - ECPv6.15.20//NONSGML v1.0//EN
CALSCALE:GREGORIAN
METHOD:PUBLISH
X-WR-CALNAME:Alabama - NW Florida PGA
X-ORIGINAL-URL:https://alabamanwfloridapga.com
X-WR-CALDESC:Events for Alabama - NW Florida PGA
REFRESH-INTERVAL;VALUE=DURATION:PT1H
X-Robots-Tag:noindex
X-PUBLISHED-TTL:PT1H
BEGIN:VTIMEZONE
TZID:UTC
BEGIN:STANDARD
TZOFFSETFROM:+0000
TZOFFSETTO:+0000
TZNAME:UTC
DTSTART:20210101T000000
END:STANDARD
END:VTIMEZONE
BEGIN:VEVENT
DTSTART;VALUE=DATE:20220711
DTEND;VALUE=DATE:20220712
DTSTAMP:20260422T060312
CREATED:20220609T203259Z
LAST-MODIFIED:20220609T203339Z
UID:10000305-1657497600-1657583999@alabamanwfloridapga.com
SUMMARY:GT Golf Supplies Stroke Play #4
DESCRIPTION:
URL:https://alabamanwfloridapga.com/event/gt-golf-supplies-stroke-play-4/
LOCATION:Ballantrae Golf Club\, 1300 Ballantrae Club Dr\, Pelham\, AL\, 35124\, United States
GEO:33.2597059;-86.7558808
X-APPLE-STRUCTURED-LOCATION;VALUE=URI;X-ADDRESS=Ballantrae Golf Club 1300 Ballantrae Club Dr Pelham AL 35124 United States;X-APPLE-RADIUS=500;X-TITLE=1300 Ballantrae Club Dr:geo:-86.7558808,33.2597059
END:VEVENT
END:VCALENDAR