BEGIN:VCALENDAR
VERSION:2.0
PRODID:-//Alabama - NW Florida PGA - ECPv6.15.20//NONSGML v1.0//EN
CALSCALE:GREGORIAN
METHOD:PUBLISH
X-ORIGINAL-URL:https://alabamanwfloridapga.com
X-WR-CALDESC:Events for Alabama - NW Florida PGA
REFRESH-INTERVAL;VALUE=DURATION:PT1H
X-Robots-Tag:noindex
X-PUBLISHED-TTL:PT1H
BEGIN:VTIMEZONE
TZID:UTC
BEGIN:STANDARD
TZOFFSETFROM:+0000
TZOFFSETTO:+0000
TZNAME:UTC
DTSTART:20200101T000000
END:STANDARD
END:VTIMEZONE
BEGIN:VEVENT
DTSTART;VALUE=DATE:20210621
DTEND;VALUE=DATE:20210622
DTSTAMP:20260422T025728
CREATED:20210515T012008Z
LAST-MODIFIED:20210515T012008Z
UID:10000296-1624233600-1624319999@alabamanwfloridapga.com
SUMMARY:Stroke Play Series Event No. 3
DESCRIPTION:
URL:https://alabamanwfloridapga.com/event/stroke-play-series-event-no-3/
LOCATION:RTJ Golf Trail at Capitol Hill – Legislator\, Constitution Avenue 2600\, Prattville\, AL\, 36066\, United States
GEO:32.4431601;-86.3948145
X-APPLE-STRUCTURED-LOCATION;VALUE=URI;X-ADDRESS=RTJ Golf Trail at Capitol Hill – Legislator Constitution Avenue 2600 Prattville AL 36066 United States;X-APPLE-RADIUS=500;X-TITLE=Constitution Avenue 2600:geo:-86.3948145,32.4431601
END:VEVENT
END:VCALENDAR