BEGIN:VCALENDAR
VERSION:2.0
PRODID:-//Alabama - NW Florida PGA - ECPv6.15.20//NONSGML v1.0//EN
CALSCALE:GREGORIAN
METHOD:PUBLISH
X-WR-CALNAME:Alabama - NW Florida PGA
X-ORIGINAL-URL:https://alabamanwfloridapga.com
X-WR-CALDESC:Events for Alabama - NW Florida PGA
REFRESH-INTERVAL;VALUE=DURATION:PT1H
X-Robots-Tag:noindex
X-PUBLISHED-TTL:PT1H
BEGIN:VTIMEZONE
TZID:UTC
BEGIN:STANDARD
TZOFFSETFROM:+0000
TZOFFSETTO:+0000
TZNAME:UTC
DTSTART:20200101T000000
END:STANDARD
END:VTIMEZONE
BEGIN:VEVENT
DTSTART;VALUE=DATE:20210510
DTEND;VALUE=DATE:20210512
DTSTAMP:20260421T131809
CREATED:20210318T035223Z
LAST-MODIFIED:20210318T035223Z
UID:10000293-1620604800-1620777599@alabamanwfloridapga.com
SUMMARY:Alabama Chapter Championship
DESCRIPTION:
URL:https://alabamanwfloridapga.com/event/alabama-chapter-championship-2/
LOCATION:Hoover Country Club\, 3140 Club Dr.\, Hoover\, AL\, 35226\, United States
GEO:33.4003068;-86.8183861
X-APPLE-STRUCTURED-LOCATION;VALUE=URI;X-ADDRESS=Hoover Country Club 3140 Club Dr. Hoover AL 35226 United States;X-APPLE-RADIUS=500;X-TITLE=3140 Club Dr.:geo:-86.8183861,33.4003068
END:VEVENT
END:VCALENDAR